BEGIN:VCALENDAR
VERSION:2.0
PRODID:-//South Asian American Chamber of Commerce IL - ECPv6.15.16//NONSGML v1.0//EN
CALSCALE:GREGORIAN
METHOD:PUBLISH
X-ORIGINAL-URL:https://saaccil.org
X-WR-CALDESC:Events for South Asian American Chamber of Commerce IL
REFRESH-INTERVAL;VALUE=DURATION:PT1H
X-Robots-Tag:noindex
X-PUBLISHED-TTL:PT1H
BEGIN:VTIMEZONE
TZID:UTC
BEGIN:STANDARD
TZOFFSETFROM:+0000
TZOFFSETTO:+0000
TZNAME:UTC
DTSTART:20230101T000000
END:STANDARD
END:VTIMEZONE
BEGIN:VEVENT
DTSTART;TZID=UTC:20241214T120000
DTEND;TZID=UTC:20241228T170000
DTSTAMP:20260420T142916
CREATED:20241202T163848Z
LAST-MODIFIED:20241202T165153Z
UID:725-1734177600-1735405200@saaccil.org
SUMMARY:A Very Asian Holiday: A Mini AAPI Market
DESCRIPTION:Celebrate the Season with “A Very Asian Holiday” Market! \nExperience the rich tapestry of Asian American and Pacific Islander (AAPI) culture at this lively holiday market! Discover one-of-a-kind gifts\, delicious treats\, and specialty items from AAPI-owned businesses and creators. It’s more than a shopping experience—it’s a chance to connect with vibrant traditions\, support local entrepreneurs\, and enjoy the festive spirit of the season. Whether you’re finding the perfect gift or savoring the atmosphere\, this event is a joyful celebration of community\, culture\, and creativity. \nDates: December 14th\, 21st\, and the 28th\, 2024\, 12:00 PM – 5:00 PM\nLocation: Amber Agave (1310 North Milwaukee Avenue Chicago\, IL 60622) \n\nPlease visit HERE for more details.
URL:https://saaccil.org/event/a-very-asian-holiday-a-mini-aapi-market/
LOCATION:Amber Agave (1310 North Milwaukee Avenue Chicago\, IL 60622)
ATTACH;FMTTYPE=image/jpeg:https://saaccil.org/wp-content/uploads/2024/12/674bf98071a63bd0da5d74f2_674bf95ef676e7a6a04cc3d4_everybody20market.jpeg
END:VEVENT
END:VCALENDAR