BEGIN:VCALENDAR
VERSION:2.0
PRODID:-//South Asian American Chamber of Commerce IL - ECPv6.15.16//NONSGML v1.0//EN
CALSCALE:GREGORIAN
METHOD:PUBLISH
X-WR-CALNAME:South Asian American Chamber of Commerce IL
X-ORIGINAL-URL:https://saaccil.org
X-WR-CALDESC:Events for South Asian American Chamber of Commerce IL
REFRESH-INTERVAL;VALUE=DURATION:PT1H
X-Robots-Tag:noindex
X-PUBLISHED-TTL:PT1H
BEGIN:VTIMEZONE
TZID:UTC
BEGIN:STANDARD
TZOFFSETFROM:+0000
TZOFFSETTO:+0000
TZNAME:UTC
DTSTART:20230101T000000
END:STANDARD
END:VTIMEZONE
BEGIN:VEVENT
DTSTART;VALUE=DATE:20241107
DTEND;VALUE=DATE:20241108
DTSTAMP:20260421T190656
CREATED:20241029T201042Z
LAST-MODIFIED:20241029T201042Z
UID:714-1730937600-1731023999@saaccil.org
SUMMARY:2024 Finding Light Through the Darkness Diwali Fundraiser
DESCRIPTION:  \nOn Thursday\, November 7th\, Brown Man Therapy (BMT) hosts its second annual Diwali fundraiser\, Finding Light Through the Darkness\, focused on advancing mental health awareness within the South Asian community. Following last year’s sold-out event\, this year’s fundraiser will take place in a larger venue and feature an award ceremony recognizing mental health champions alongside a lineup of culture-inspired programming. \nProceeds from this evening will support BMT’s mission to create safe storytelling spaces\, employ data-backed mental health practices\, and foster a stronger\, supportive South Asian community. Funds will also help sustain BMT’s programs\, including workshops\, panel discussions\, and creating inclusive spaces for sharing personal journeys and exploring mental health in impactful ways. \nAbout Brown Man Therapy (BMT):\nBMT is a 501(c)(3) nonprofit dedicated to promoting mental health education\, inclusivity\, and community engagement\, particularly for South Asian men. Recognizing that addressing men’s mental health strengthens all communities\, BMT champions open discussions around mental wellness\, encouraging South Asians everywhere to seek and share support. \nTickets for this meaningful night are available now—don’t miss an evening of celebration\, connection\, and positive impact! \nfor more information\, visit Chicago Asian Network’s website.
URL:https://saaccil.org/event/2024-finding-light-through-the-darkness-diwali-fundraiser/
LOCATION:Recess at City Hall (838 W Kinzie St\, Chicago\, IL 60642)
END:VEVENT
END:VCALENDAR