BEGIN:VCALENDAR
VERSION:2.0
PRODID:-//South Asian American Chamber of Commerce IL - ECPv6.15.16//NONSGML v1.0//EN
CALSCALE:GREGORIAN
METHOD:PUBLISH
X-ORIGINAL-URL:https://saaccil.org
X-WR-CALDESC:Events for South Asian American Chamber of Commerce IL
REFRESH-INTERVAL;VALUE=DURATION:PT1H
X-Robots-Tag:noindex
X-PUBLISHED-TTL:PT1H
BEGIN:VTIMEZONE
TZID:UTC
BEGIN:STANDARD
TZOFFSETFROM:+0000
TZOFFSETTO:+0000
TZNAME:UTC
DTSTART:20240101T000000
END:STANDARD
END:VTIMEZONE
BEGIN:VEVENT
DTSTART;TZID=UTC:20251031T113000
DTEND;TZID=UTC:20251031T123000
DTSTAMP:20260425T185605
CREATED:20251029T144700Z
LAST-MODIFIED:20251029T195447Z
UID:910-1761910200-1761913800@saaccil.org
SUMMARY:Secretary of State Diwali Event
DESCRIPTION:
URL:https://saaccil.org/event/secretary-of-state-diwali-event/
LOCATION:115 South Lasalle Street\, 115 South Lasalle Street\, Chicago\, 60603\, United States
END:VEVENT
END:VCALENDAR