BEGIN:VCALENDAR
VERSION:2.0
PRODID:-//South Asian American Chamber of Commerce IL - ECPv6.15.16//NONSGML v1.0//EN
CALSCALE:GREGORIAN
METHOD:PUBLISH
X-ORIGINAL-URL:https://saaccil.org
X-WR-CALDESC:Events for South Asian American Chamber of Commerce IL
REFRESH-INTERVAL;VALUE=DURATION:PT1H
X-Robots-Tag:noindex
X-PUBLISHED-TTL:PT1H
BEGIN:VTIMEZONE
TZID:UTC
BEGIN:STANDARD
TZOFFSETFROM:+0000
TZOFFSETTO:+0000
TZNAME:UTC
DTSTART:20240101T000000
END:STANDARD
END:VTIMEZONE
BEGIN:VEVENT
DTSTART;TZID=UTC:20250510T110000
DTEND;TZID=UTC:20250510T150000
DTSTAMP:20260426T032609
CREATED:20250204T210214Z
LAST-MODIFIED:20250307T203556Z
UID:769-1746874800-1746889200@saaccil.org
SUMMARY:Masala Fest 2025
DESCRIPTION:Join us on March 15th at India Hub (International Hub) for Masala Fest\, a vibrant celebration of South Asian culture\, food\, and community! 🎉 \n🔥 What to Expect:\n🍛 Authentic South Asian Food Vendors\n🎨 Colorful Holi Celebration\n🎶 Live Music & Dance Performances\n🤝 Community Gathering & Festivities \n📍 Location: India Hub (International Hub)\, Schaumburg\, IL\n📅 Date: May 10\, 2025 \nWant to showcase your business? Sign up to be a vendor today!\nREGISTER HERE: https://forms.gle/oEeHPkA6mXzCDuve7 \n✨ Don’t miss this unforgettable experience – bring your friends\, family\, and an appetite for culture and connection! \n🔗 Visit SAACCIL.org for more details!
URL:https://saaccil.org/event/masala-fest-2025/
ATTACH;FMTTYPE=image/png:https://saaccil.org/wp-content/uploads/2025/03/NEW-DATE-Your-Story_sized.png
ORGANIZER;CN="South Asian American Chamber of Commerce Illinois":MAILTO:info@saaccil.org
END:VEVENT
BEGIN:VEVENT
DTSTART;VALUE=DATE:20250511
DTEND;VALUE=DATE:20250512
DTSTAMP:20260426T032609
CREATED:20250408T180843Z
LAST-MODIFIED:20250408T204808Z
UID:798-1746921600-1747007999@saaccil.org
SUMMARY:SALDEF Presents: Sikhs in Storytelling in Chicago
DESCRIPTION:Experience the Second Annual Sikhs in Storytelling\, presented by SALDEF!Date: May 11\, 2025 \nJoin an inspiring gatheriang of Sikh community leaders\, artists\, creatives\, and storytellers for a full day of engaging workshops\, insightful panels\, cultural performances\, and intimate fireside conversations. This unique event is dedicated to uplifting Sikh narratives and celebrating the voices shaping the future of our community. \nThis year’s program will spotlight the stories and contributions of Sikh Americans from the Midwest\, showcasing the remarkable talent driving visibility and representation across the arts\, entertainment\, and cultural spheres. \nDon’t miss this celebration of storytelling\, identity\, and creative expression. \n\n\n\n\n\n\n\n\n\n\n\n\n\n\n\n\n\n\nFor more information\, visit the event page here: LINK
URL:https://saaccil.org/event/saldef-presents-sikhs-in-storytelling-in-chicago/
END:VEVENT
END:VCALENDAR