BEGIN:VCALENDAR
VERSION:2.0
PRODID:-//South Asian American Chamber of Commerce IL - ECPv6.15.16//NONSGML v1.0//EN
CALSCALE:GREGORIAN
METHOD:PUBLISH
X-WR-CALNAME:South Asian American Chamber of Commerce IL
X-ORIGINAL-URL:https://saaccil.org
X-WR-CALDESC:Events for South Asian American Chamber of Commerce IL
REFRESH-INTERVAL;VALUE=DURATION:PT1H
X-Robots-Tag:noindex
X-PUBLISHED-TTL:PT1H
BEGIN:VTIMEZONE
TZID:UTC
BEGIN:STANDARD
TZOFFSETFROM:+0000
TZOFFSETTO:+0000
TZNAME:UTC
DTSTART:20210101T000000
END:STANDARD
END:VTIMEZONE
BEGIN:VEVENT
DTSTART;TZID=UTC:20240818T150000
DTEND;TZID=UTC:20240818T200000
DTSTAMP:20260421T112027
CREATED:20240723T180355Z
LAST-MODIFIED:20240723T193630Z
UID:491-1723993200-1724011200@saaccil.org
SUMMARY:Taste of Asia
DESCRIPTION:  \nWaban Impact welcomes everyone to their Taste of Asia Event this August 18 at Bridge 410\, N Paulina St. Chicago\, from 3:00 PM to 8:00 PM! \nPlease confirm your participation as an attendee here: \n\nAttendee Registration Form: https://forms.gle/65gm3uH9A81m5VSy8\n\nEmbrace AAPI roots and celebrate the vibrant flavors\, melodies\, and traditions of AAPI heritage\, by joining us in this festive occasion ????????????✨ \nfor more information\, message us\, or contact emailsusanpatel@gmail.com \nSee you there! \nIf you would like to take part as a vendor\, attendee\, or volunteer\, please fill up this form: \n\nVendor Registration Form: https://forms.gle/dSC5ZazkdNzhTmNM9\nVolunteer Registration Form: https://forms.gle/7mZX3adSXadc5rvK7
URL:https://saaccil.org/event/491/
LOCATION:BRIDGE 410 (410 N PAULINA ST. CHICAGO IL 60622)\, 410 N PAULINA ST. CHICAGO IL 60622\, Chicago\, IL\, 60622\, United States
ATTACH;FMTTYPE=application/pdf:https://saaccil.org/wp-content/uploads/2024/07/Taste-of-Asia-Bridge-410-Contact-Info-FV-1.pdf
ORGANIZER;CN="Waban Impact":MAILTO:hello@wabanimpact.com
END:VEVENT
BEGIN:VEVENT
DTSTART;TZID=UTC:20240605T100000
DTEND;TZID=UTC:20240605T110000
DTSTAMP:20260421T112027
CREATED:20240604T210848Z
LAST-MODIFIED:20240604T210848Z
UID:432-1717581600-1717585200@saaccil.org
SUMMARY:Online with OMEE – Overview of Financial Resources for Small Businesses
DESCRIPTION:Online with OMEE – Overview of Financial Resources for Small Businesses \nWednesday | June 5\, 2024 | 10:00 – 11:00 AM | Register here \nIs access to financial capital important for your business? \nThe Office of Minority Economic Empowerment (OMEE) Business Development Managers invite you to an online conversation that’s open to all minorities ((racial/ethnic)\, women\, persons with disabilities\, veterans\, and LGBTQIA+) and any other marginalized groups-owned businesses. Team OMEE will provide you with the latest updates on financial resources like federal and state programs\, information about other opportunities\, and answer any questions you may have about your business. We’ll take questions in English and Spanish.
URL:https://saaccil.org/event/online-with-omee-overview-of-financial-resources-for-small-businesses/
END:VEVENT
BEGIN:VEVENT
DTSTART;TZID=UTC:20240529T170000
DTEND;TZID=UTC:20240529T200000
DTSTAMP:20260421T112027
CREATED:20240529T212823Z
LAST-MODIFIED:20240529T212852Z
UID:397-1717002000-1717012800@saaccil.org
SUMMARY:Celebrate & Connect: AAPI Heritage Month Closeout Small Business Symposium & Networking
DESCRIPTION:Celebrate & Connect: AAPI Heritage Month Closeout Small Business Symposium & Networking\nWednesday\, May 29\, 2024 | 5:00 – 8:00 PM | In-Person | Register\nNorth Park University\, Hamming Hall\, 3225 W Foster Ave. Chicago\, IL 60625 \nIn collaboration with the North River Commission/Albany Park Chamber of Commerce\, Fifth Third Bank\, and Chicago Asian Network\, the Illinois Department of Commerce and Economic Opportunity (DCEO)\, Office of Minority Economic Empowerment (OMEE) invites you to celebrate the end of AAPI Heritage Month with a panel discussion by distinguished AAPI food entrepreneurs\, essential business resources from government agencies\, and networking opportunities! All communities are welcome. Also\, there will be a special announcement about a grant opportunity for AAPI-owned restaurants! Free parking is available in the Visitor Lot at Kedzie and Foster Avenues. Complimentary Amber Agave boba drinks for guests! More information in our registration page. \nWould love to see you there as well if you’re available!
URL:https://saaccil.org/event/celebrate-connect-aapi-heritage-month-closeout-small-business-symposium-networking/
END:VEVENT
BEGIN:VEVENT
DTSTART;VALUE=DATE:20240529
DTEND;VALUE=DATE:20240824
DTSTAMP:20260421T112027
CREATED:20240523T214032Z
LAST-MODIFIED:20240523T214449Z
UID:393-1716940800-1724457599@saaccil.org
SUMMARY:SUMMER FESTIVAL CERTIFICATION
DESCRIPTION:The Illinois Restaurant Association\, in partnership with the Chicago Department of Health\, is excited to present the Summer Festival Sanitation Certification Class. This detailed and informative 2.5-hour course is mandatory for all summer festival food service vendors and encompasses all aspects of outdoor food handling and effective festival sanitation practices. \nThe IRA also offers Private Classes at your location in English and Spanish for groups of 10 or more.  Call at 312-787-4000 to arrange for a private class. \nClass Tuition:\nIRA Member- $40.00\nNon-Member- $45.00 \nVirtual Zoom Class Time:\nClass Time:  10:00am – 12:30 pm \nSummer Festival Vendor Sanitation Certification Training classes are held in a virtual format through Zoom in the following dates: \n  \nMAY \nWednesday\, May 29 \nJUNE \nWednesday\, June 5\nWednesday\, June 14\nThursday\, June 20\nThursday\, June 27 \nJULY \nWednesday\, July 3\nWednesday\, July 10\nFriday\, July 19\nFriday\, July 26 \nAUGUST \nFriday\, August 2\nFriday\, August 9\nFriday\, August 16\nFriday\, August 23 \nIf you wish to join\, please be advised that there is a minimum of 3 weeks for the turnaround on festival certificates.  \nFor more information\, please see the 2024 Special Event Festival Training Presentation.
URL:https://saaccil.org/event/summer-festival-certification/
END:VEVENT
BEGIN:VEVENT
DTSTART;TZID=UTC:20220416T140000
DTEND;TZID=UTC:20220416T170000
DTSTAMP:20260421T112027
CREATED:20220411T223559Z
LAST-MODIFIED:20220411T223559Z
UID:201-1650117600-1650128400@saaccil.org
SUMMARY:Chamber's Inaugural Kickoff Event
DESCRIPTION:
URL:https://saaccil.org/event/chambers-inaugural-kickoff-event/
LOCATION:Holiday Inn\, North Shore\, 5300 Touhy Ave\, Skokie\, 60077
ORGANIZER;CN="South Asian American Chamber of Commerce Illinois":MAILTO:info@saaccil.org
END:VEVENT
END:VCALENDAR