BEGIN:VCALENDAR
VERSION:2.0
PRODID:-//South Asian American Chamber of Commerce IL - ECPv6.15.16//NONSGML v1.0//EN
CALSCALE:GREGORIAN
METHOD:PUBLISH
X-WR-CALNAME:South Asian American Chamber of Commerce IL
X-ORIGINAL-URL:https://saaccil.org
X-WR-CALDESC:Events for South Asian American Chamber of Commerce IL
REFRESH-INTERVAL;VALUE=DURATION:PT1H
X-Robots-Tag:noindex
X-PUBLISHED-TTL:PT1H
BEGIN:VTIMEZONE
TZID:UTC
BEGIN:STANDARD
TZOFFSETFROM:+0000
TZOFFSETTO:+0000
TZNAME:UTC
DTSTART:20210101T000000
END:STANDARD
END:VTIMEZONE
BEGIN:VEVENT
DTSTART;TZID=UTC:20220416T140000
DTEND;TZID=UTC:20220416T170000
DTSTAMP:20260426T033533
CREATED:20220411T223559Z
LAST-MODIFIED:20220411T223559Z
UID:201-1650117600-1650128400@saaccil.org
SUMMARY:Chamber's Inaugural Kickoff Event
DESCRIPTION:
URL:https://saaccil.org/event/chambers-inaugural-kickoff-event/
LOCATION:Holiday Inn\, North Shore\, 5300 Touhy Ave\, Skokie\, 60077
ORGANIZER;CN="South Asian American Chamber of Commerce Illinois":MAILTO:info@saaccil.org
END:VEVENT
END:VCALENDAR