BEGIN:VCALENDAR
VERSION:2.0
PRODID:-//South Asian American Chamber of Commerce IL - ECPv6.15.16//NONSGML v1.0//EN
CALSCALE:GREGORIAN
METHOD:PUBLISH
X-ORIGINAL-URL:https://saaccil.org
X-WR-CALDESC:Events for South Asian American Chamber of Commerce IL
REFRESH-INTERVAL;VALUE=DURATION:PT1H
X-Robots-Tag:noindex
X-PUBLISHED-TTL:PT1H
BEGIN:VTIMEZONE
TZID:UTC
BEGIN:STANDARD
TZOFFSETFROM:+0000
TZOFFSETTO:+0000
TZNAME:UTC
DTSTART:20250101T000000
END:STANDARD
END:VTIMEZONE
BEGIN:VEVENT
DTSTART;VALUE=DATE:20260429
DTEND;VALUE=DATE:20260430
DTSTAMP:20260421T021653
CREATED:20260417T221101Z
LAST-MODIFIED:20260417T221101Z
UID:1157-1777420800-1777507199@saaccil.org
SUMMARY:Small Business Grants Workshop
DESCRIPTION:
URL:https://saaccil.org/event/small-business-grants-workshop/
ATTACH;FMTTYPE=image/png:https://saaccil.org/wp-content/uploads/2026/04/FLYER-Small-Business-Grants-Workshop-Flyer-ENGLISH-1-scaled-e1776697887727.png
END:VEVENT
END:VCALENDAR