BEGIN:VCALENDAR
VERSION:2.0
PRODID:-//South Asian American Chamber of Commerce IL - ECPv6.15.16//NONSGML v1.0//EN
CALSCALE:GREGORIAN
METHOD:PUBLISH
X-ORIGINAL-URL:https://saaccil.org
X-WR-CALDESC:Events for South Asian American Chamber of Commerce IL
REFRESH-INTERVAL;VALUE=DURATION:PT1H
X-Robots-Tag:noindex
X-PUBLISHED-TTL:PT1H
BEGIN:VTIMEZONE
TZID:UTC
BEGIN:STANDARD
TZOFFSETFROM:+0000
TZOFFSETTO:+0000
TZNAME:UTC
DTSTART:20240101T000000
END:STANDARD
END:VTIMEZONE
BEGIN:VEVENT
DTSTART;TZID=UTC:20251113T180000
DTEND;TZID=UTC:20251113T210000
DTSTAMP:20260425T185650
CREATED:20251029T151305Z
LAST-MODIFIED:20251102T013108Z
UID:923-1763056800-1763067600@saaccil.org
SUMMARY:SAIRE Diwali Celebration
DESCRIPTION:Get Your Ticket: https://www.joinsaire.com/event-details/saire-diwali-celebration
URL:https://saaccil.org/event/saire-diwali-celebration/
LOCATION:The Bell\, 225 W Randolph\, Chicago\, 60606\, United States
END:VEVENT
END:VCALENDAR