BEGIN:VCALENDAR
VERSION:2.0
PRODID:-//South Asian American Chamber of Commerce IL - ECPv6.15.16//NONSGML v1.0//EN
CALSCALE:GREGORIAN
METHOD:PUBLISH
X-WR-CALNAME:South Asian American Chamber of Commerce IL
X-ORIGINAL-URL:https://saaccil.org
X-WR-CALDESC:Events for South Asian American Chamber of Commerce IL
REFRESH-INTERVAL;VALUE=DURATION:PT1H
X-Robots-Tag:noindex
X-PUBLISHED-TTL:PT1H
BEGIN:VTIMEZONE
TZID:UTC
BEGIN:STANDARD
TZOFFSETFROM:+0000
TZOFFSETTO:+0000
TZNAME:UTC
DTSTART:20240101T000000
END:STANDARD
END:VTIMEZONE
BEGIN:VEVENT
DTSTART;TZID=UTC:20251105T120000
DTEND;TZID=UTC:20251105T133000
DTSTAMP:20260425T185518
CREATED:20251029T150729Z
LAST-MODIFIED:20251102T013009Z
UID:920-1762344000-1762349400@saaccil.org
SUMMARY:AI Small Biz Workshop
DESCRIPTION:RSVP Here: https://bit.ly/SAACCIL_AISmallBiz
URL:https://saaccil.org/event/ai-small-biz-workshop/
LOCATION:SAACCIL Office\, 7331 Lincoln Ave\, Suite 1\, Lincolnwood\, IL\, 60712\, United States
ORGANIZER;CN="South Asian American Chamber of Commerce Illinois":MAILTO:info@saaccil.org
END:VEVENT
END:VCALENDAR